BEGIN:VCALENDAR
VERSION:2.0
PRODID:-//Kentucky VOAD - ECPv6.15.20//NONSGML v1.0//EN
CALSCALE:GREGORIAN
METHOD:PUBLISH
X-WR-CALNAME:Kentucky VOAD
X-ORIGINAL-URL:https://www.kentuckyvoad.org
X-WR-CALDESC:Events for Kentucky VOAD
REFRESH-INTERVAL;VALUE=DURATION:PT1H
X-Robots-Tag:noindex
X-PUBLISHED-TTL:PT1H
BEGIN:VTIMEZONE
TZID:UTC
BEGIN:STANDARD
TZOFFSETFROM:+0000
TZOFFSETTO:+0000
TZNAME:UTC
DTSTART:20190101T000000
END:STANDARD
END:VTIMEZONE
BEGIN:VEVENT
DTSTART;TZID=UTC:20210513T093000
DTEND;TZID=UTC:20210513T103000
DTSTAMP:20260423T044855
CREATED:20210511T161317Z
LAST-MODIFIED:20210511T161317Z
UID:98174-1620898200-1620901800@www.kentuckyvoad.org
SUMMARY:KYVOAD LTRG Update and Discussion
DESCRIPTION:We are going to have an important Recovery update meeting for Kentucky VOAD on Thursday morning. May 13 at 9:30 am eastern. It will be important that we get updated on recovery efforts thus far and what is being planned. We all have a part to play in recovery\, even our traditional response and clean-up partners. Please join us and be ready to share your organization’s recovery plans and be ready to think about ways you can participate. \nCheck email for Zoom Link!
URL:https://www.kentuckyvoad.org/event/kyvoad-ltrg-update-and-discussion/
LOCATION:Zoom
END:VEVENT
BEGIN:VEVENT
DTSTART;TZID=UTC:20210511T130000
DTEND;TZID=UTC:20210511T140000
DTSTAMP:20260423T044855
CREATED:20210504T141936Z
LAST-MODIFIED:20210504T142016Z
UID:98153-1620738000-1620741600@www.kentuckyvoad.org
SUMMARY:March Flooding Event - KYVOAD After Action Review
DESCRIPTION:For those interested\, Patrick will be hosting a roundtable discussion on our response efforts during the February/March Ice and Flooding event.Â  Items of particular interest include the use of Crisis Clean Up\, Communication and Collaboration\, and KYVOAD briefing calls.Â  We are looking to have a meaningful discussion in ways to improve upon our mission of the 4 Câ€™s. \n 
URL:https://www.kentuckyvoad.org/event/march-flooding-event-kyvoad-after-action-review/
LOCATION:Zoom
ORGANIZER;CN="Patrick R Montague":MAILTO:patrick.montague@teamrubiconusa.org
END:VEVENT
BEGIN:VEVENT
DTSTART;TZID=UTC:20201210T093000
DTEND;TZID=UTC:20201210T120000
DTSTAMP:20260423T044855
CREATED:20201209T221322Z
LAST-MODIFIED:20201209T222146Z
UID:98074-1607592600-1607601600@www.kentuckyvoad.org
SUMMARY:4th Quarterly Meeting
DESCRIPTION:We will have our 4th quarterly meeting via Zoom. Email kentuckyvoad@gmail.com for more information about attending the virtual meeting.
URL:https://www.kentuckyvoad.org/event/4th-quarterly-meeting/
LOCATION:Zoom
END:VEVENT
END:VCALENDAR